0.1
0
0
-0.1
583767.962915691
4713350.82933423
