0.1
0
0
-0.1
579499.518349332
4712721.97458085
