0.1
0
0
-0.1
612969.367489698
4757732.04544116
