0.1
0
0
-0.1
615518.157108187
4757774.78530064
