0.1
0
0
-0.1
613007.621050711
4755418.59665894
