0.1
0
0
-0.1
613838.238464608
4756589.4281621
