0.1
0
0
-0.1
613017.184040511
4754840.23338378
