0.1
0
0
-0.1
614717.097214461
4754868.65913998
