0.1
0
0
-0.1
633720.918305367
4739592.45289714
