0.1
0
0
-0.1
632891.337845013
4738419.35013429
