0.1
0
0
-0.1
582257.573488088
4767705.14167046
