0.1
0
0
-0.1
582285.62857708
4765391.63379871
