0.1
0
0
-0.1
581443.97682327
4764803.17010702
