0.1
0
0
-0.1
588383.442812515
4753320.3351589
