0.1
0
0
-0.1
587540.764571924
4752731.04674666
