0.1
0
0
-0.1
591783.871233887
4753365.13051508
