0.1
0
0
-0.1
591791.655994825
4752786.77328103
