0.1
0
0
-0.1
592641.837528525
4752798.13133141
