0.1
0
0
-0.1
592649.690246199
4752219.77344374
