0.1
0
0
-0.1
594342.177161684
4752821.49406574
