0.1
0
0
-0.1
593515.776012507
4751074.63419915
