0.1
0
0
-0.1
595216.537944843
4751098.20838983
