0.1
0
0
-0.1
612404.221840224
4740367.43784712
