0.1
0
0
-0.1
612432.618567411
4738632.41322854
