0.1
0
0
-0.1
612451.541761825
4737475.72815774
