0.1
0
0
-0.1
615869.688517365
4736954.03006692
