0.1
0
0
-0.1
620110.32753
4738183.80472336
