0.1
0
0
-0.1
613332.237633484
4735754.60868497
