0.1
0
0
-0.1
614174.946102364
4736347.0564586
