0.1
0
0
-0.1
619298.447689139
4735855.69055572
