0.1
0
0
-0.1
618466.052066993
4734684.26694873
