0.1
0
0
-0.1
578195.493881121
4752039.39648868
