0.1
0
0
-0.1
579052.441036365
4751470.71020943
