0.1
0
0
-0.1
613524.121063147
4671548.34372168
