0.1
0
0
-0.1
614403.186479549
4670405.65568085
