0.1
0
0
-0.1
580732.51815527
4753225.74925059
