0.1
0
0
-0.1
581582.620428702
4753235.83584824
