0.1
0
0
-0.1
581589.543901074
4752657.4805538
