0.1
0
0
-0.1
600826.201359525
4716470.77244697
