0.1
0
0
-0.1
599988.249881191
4715301.7196953
