0.1
0
0
-0.1
603667.677651519
4754691.99331931
