0.1
0
0
-0.1
606235.532219171
4753574.44154767
