0.1
0
0
-0.1
605403.275743827
4752404.66350838
