0.1
0
0
-0.1
606253.514038257
4752417.72347277
