0.1
0
0
-0.1
575964.617174873
4723093.25567955
