0.1
0
0
-0.1
575970.984842065
4722514.92374574
