0.1
0
0
-0.1
578512.845550718
4724278.73517697
