0.1
0
0
-0.1
579373.15418872
4723710.08735765
