0.1
0
0
-0.1
578526.009983618
4723122.08355824
