0.1
0
0
-0.1
576824.854126487
4722524.39260316
